BEGIN:VCALENDAR
VERSION:2.0
PRODID:-//jEvents 2.0 for Joomla//EN
CALSCALE:GREGORIAN
METHOD:PUBLISH
BEGIN:VEVENT
UID:b19af233bcb498678dafd6b926906a3e
CATEGORIES:Externos
CREATED:19691231T210000
SUMMARY:Muestra - “Paisajes de la Memoria”
LOCATION:Radio Universidad - Campus Universitario (Av. Del Valle 5737)
DESCRIPTION:Con motivo de conmemorarse un nuevo "Día Nacional de la Memoria, por la Ver
 dad y Justicia" las unidades que integran la UNICEN sede Olavarría - Escuel
 a Nacional Adolfo Pérez Esquivel, Escuela Superior de Ciencias de la Salud,
  Jardín Maternal Upa La Lá y las Facultades de Ingeniería y de Ciencias Soc
 iales, junto al Centro Cultural Universitario-, invitan a la comunidad educ
 ativa y al público en general, a participar de las diferentes actividades p
 ropuestas durante la semana, que comenzarán el lunes 18 de marzo y culminar
 án el jueves 28 del corriente.\nMUESTRAS\n-Desde el 18 hasta el jueves 28 d
 e marzo: Cobertura especial de Radio Universidad FM 90.1:\nEn el marco de s
 u programación, Radio Universidad realizará la cobertura de todas las activ
 idades desarrolladas por la UNICEN sede Olavarría, planificadas para la Sem
 ana de la Memoria.\n
X-ALT-DESC;FMTTYPE=text/html:<p style="text-align: justify;">Con motivo de conmemorarse un nuevo "Día Na
 cional de la Memoria, por la Verdad y Justicia" las unidades que integran l
 a UNICEN sede Olavarría - Escuela Nacional Adolfo Pérez Esquivel, Escuela S
 uperior de Ciencias de la Salud, Jardín Maternal Upa La Lá y las Facultades
  de Ingeniería y de Ciencias Sociales, junto al Centro Cultural Universitar
 io-, invitan a la comunidad educativa y al público en general, a participar
  de las diferentes actividades propuestas durante la semana, que comenzarán
  el lunes 18 de marzo y culminarán el jueves 28 del corriente.</p><p style=
 "text-align: justify;"><strong>MUESTRAS</strong></p><p style="text-align: j
 ustify;">-<strong>Desde el 18 hasta el jueves 28 de marzo: Cobertura especi
 al de Radio Universidad FM 90.1:</strong></p><p style="text-align: justify;
 ">En el marco de su programación, Radio Universidad realizará la cobertura 
 de todas las actividades desarrolladas por la UNICEN sede Olavarría, planif
 icadas para la Semana de la Memoria.</p>
CONTACT:Radio Universidad FM 90.1
X-EXTRAINFO:Destinado a: publico general
DTSTAMP:20260424T220839
DTSTART;TZID=America/Argentina/Buenos_Aires:20190318T090000
SEQUENCE:0
RRULE:FREQ=DAILY;UNTIL=20190329T000000Z;INTERVAL=1
TRANSP:OPAQUE
END:VEVENT
END:VCALENDAR