BEGIN:VCALENDAR
VERSION:2.0
PRODID:-//jEvents 2.0 for Joomla//EN
CALSCALE:GREGORIAN
METHOD:PUBLISH
BEGIN:VEVENT
UID:581a4c4908f559ed94ff75f2a68faaf3
CATEGORIES:Externos
CREATED:20190610T092452
SUMMARY:VI Jornada de Infectología de Mar del Plata
LOCATION:Centro Médico de Mar del Plata - San Luis No 1978\, Mar del Plata
DESCRIPTION:Comité Organizador\nDirectora:\nDra. Silvia E. González Ayala\nCoordinador:
 \nDr. Norberto Recalde\nSecretarias:\nDra. Silvina R. Mondini\n Dra. Analía
  Rearte\nPrograma\n19:00 - 19:30. Inscripción\n19:30 - 19:40. Inauguración\
 n19:40 – 20:30: Vacunas antigripales. Dra. Analía Rearte\n20:30 - 21:00. Va
 cunas meningocócicas. Dra. Silvia González Ayala\n21:00 - 21:45. Presentaci
 ón de viejas enfermedades exantemáticas. Dra. Silvia González Ayala\n21:45.
  Clausura y lunch\n
X-ALT-DESC;FMTTYPE=text/html:<p style="text-align: center;"><strong>Comité Organizador<br />Directora:</
 strong><br />Dra. Silvia E. González Ayala<br /><strong>Coordinador:</stron
 g><br />Dr. Norberto Recalde<br /><strong>Secretarias:</strong><br />Dra. S
 ilvina R. Mondini<br /> Dra. Analía Rearte</p><p style="text-align: center;
 "><strong>Programa</strong></p><p style="text-align: center;">19:00 - 19:30
 . Inscripción</p><p style="text-align: center;">19:30 - 19:40. Inauguración
 </p><p style="text-align: center;">19:40 – 20:30: Vacunas antigripales. Dra
 . Analía Rearte</p><p style="text-align: center;">20:30 - 21:00. Vacunas me
 ningocócicas. Dra. Silvia González Ayala</p><p style="text-align: center;">
 21:00 - 21:45. Presentación de viejas enfermedades exantemáticas. Dra. Silv
 ia González Ayala</p><p style="text-align: center;">21:45. Clausura y lunch
 </p>
CONTACT:Esta dirección de correo electrónico está siendo protegida contra los robots de spam. Necesita tener JavaScript habilitado para poder verlo.
				document.getElementById('cloakb19f00cd7d51013b16640d8645e2a9b7').innerHTML = '';
				var prefix = '&#109;a' + 'i&#108;' + '&#116;o';
				var path = 'hr' + 'ef' + '=';
				var addyb19f00cd7d51013b16640d8645e2a9b7 = '&#101;nf&#105;nf&#101;c&#117;n&#105;c&#101;n' + '&#64;';
				addyb19f00cd7d51013b16640d8645e2a9b7 = addyb19f00cd7d51013b16640d8645e2a9b7 + 'gm&#97;&#105;l' + '&#46;' + 'c&#111;m';
				var addy_textb19f00cd7d51013b16640d8645e2a9b7 = '&#101;nf&#105;nf&#101;c&#117;n&#105;c&#101;n' + '&#64;' + 'gm&#97;&#105;l' + '&#46;' + 'c&#111;m';document.getElementById('cloakb19f00cd7d51013b16640d8645e2a9b7').innerHTML += '<a ' + path + '\'' + prefix + ':' + addyb19f00cd7d51013b16640d8645e2a9b7 + '\'>'+addy_textb19f00cd7d51013b16640d8645e2a9b7+'';
		
DTSTAMP:20260425T131355
DTSTART;TZID=America/Argentina/Buenos_Aires:20190626T190000
DTEND;TZID=America/Argentina/Buenos_Aires:20190626T214500
SEQUENCE:0
TRANSP:OPAQUE
END:VEVENT
END:VCALENDAR