BEGIN:VCALENDAR
VERSION:2.0
PRODID:-//jEvents 2.0 for Joomla//EN
CALSCALE:GREGORIAN
METHOD:PUBLISH
BEGIN:VEVENT
UID:642395d8e6a35ce8a1496891a3f603a0
CATEGORIES:Externos
CREATED:20190319T103835
SUMMARY:Muestra - “Paisajes de la Memoria”
LOCATION:Aulas Comunes del Campus Universitario (Av. Del Valle 5737)
DESCRIPTION:Con motivo de conmemorarse un nuevo "Día Nacional de la Memoria, por la Ver
 dad y Justicia" las unidades que integran la UNICEN sede Olavarría - Escuel
 a Nacional Adolfo Pérez Esquivel, Escuela Superior de Ciencias de la Salud,
  Jardín Maternal Upa La Lá y las Facultades de Ingeniería y de Ciencias Soc
 iales, junto al Centro Cultural Universitario-, invitan a la comunidad educ
 ativa y al público en general, a participar de las diferentes actividades p
 ropuestas durante la semana, que comenzarán el lunes 18 de marzo y culminar
 án el jueves 28 del corriente.\nMUESTRAS\n“Paisajes de la Memoria”, desde e
 l 18 al 29 de marzo, de 9 a 19 horas, en el Edificio de Aulas Comunes del C
 omplejo Universitario (Av. Del Valle 5737).\nAcerca de la muestra: son foto
 grafías que muestran las diferentes marcas urbanas en la provincia de Bueno
 s Aires y que señalan los lugares del horror, marcas inevitables de la dict
 adura más atroz que asoló al país. Fotos de un registro que visibiliza las 
 ausencias en los espacios públicos\n
X-ALT-DESC;FMTTYPE=text/html:<p style="text-align: justify;">Con motivo de conmemorarse un nuevo "Día Na
 cional de la Memoria, por la Verdad y Justicia" las unidades que integran l
 a UNICEN sede Olavarría - Escuela Nacional Adolfo Pérez Esquivel, Escuela S
 uperior de Ciencias de la Salud, Jardín Maternal Upa La Lá y las Facultades
  de Ingeniería y de Ciencias Sociales, junto al Centro Cultural Universitar
 io-, invitan a la comunidad educativa y al público en general, a participar
  de las diferentes actividades propuestas durante la semana, que comenzarán
  el lunes 18 de marzo y culminarán el jueves 28 del corriente.</p><p style=
 "text-align: justify;"><strong>MUESTRAS</strong></p><p style="text-align: j
 ustify;"><strong>“Paisajes de la Memoria”, desde el 18 al 29 de marzo, de 9
  a 19 horas, en el Edificio de Aulas Comunes del Complejo Universitario (Av
 . Del Valle 5737).</strong></p><p style="text-align: justify;">Acerca de la
  muestra: son fotografías que muestran las diferentes marcas urbanas en la 
 provincia de Buenos Aires y que señalan los lugares del horror, marcas inev
 itables de la dictadura más atroz que asoló al país. Fotos de un registro q
 ue visibiliza las ausencias en los espacios públicos</p>
CONTACT:Facultad de Cs. Sociales
X-EXTRAINFO:Destinado a: publico general
DTSTAMP:20260426T001437
DTSTART;TZID=America/Argentina/Buenos_Aires:20190320T090000
DTEND;TZID=America/Argentina/Buenos_Aires:20190320T190000
SEQUENCE:0
TRANSP:OPAQUE
END:VEVENT
END:VCALENDAR