BEGIN:VCALENDAR
VERSION:2.0
PRODID:-//jEvents 2.0 for Joomla//EN
CALSCALE:GREGORIAN
METHOD:PUBLISH
BEGIN:VEVENT
UID:c468036daada93f1c216534d7a3ae1d2
CATEGORIES:Institucionales
CREATED:20181116T170420
SUMMARY:V Jornadas de Enfermería
LOCATION:SUM - Escuela Superior de Ciencias de la Salud
DESCRIPTION:El día lunes 26 de noviembre se llevará a cabo en nuestra ESCS una Jornada 
 de Enfermería organizada por la Carrera de Licenciatura en Enfermería en el
  marco del Dia de la Enfermería Argentina que se celebra el 21 de noviembre
 . \nEl día lunes 26 de noviembre se llevará a cabo en nuestra ESCS una Jorn
 ada de Enfermería organizada por la Carrera de Licenciatura en Enfermería e
 n el marco del Dia de la Enfermería Argentina que se celebra el 21 de novie
 mbre.\nEn dichas Jornadas se abordarán los siguientes temas de Enfermería L
 egal:\n\n - La responsabilidad Profesional en el ejercicio de la Enfermería
 .\n - Los registros de Enfermería como prueba documental.\n - Proyecto de C
 olegio de Enfermería de la Pcia de Buenos AiresLas disertaciones estarán a 
 cargo del Licenciado Alfredo Garrot y la Lic. Rosalia Vazquez.\n Programa (
 /index.php/component/phocadownload/category/13-noticias?download=223:progra
 ma)\n
X-ALT-DESC;FMTTYPE=text/html:<p style="text-align: justify;">El día lunes 26 de noviembre se llevará a c
 abo en nuestra ESCS una Jornada de Enfermería organizada por la Carrera de 
 Licenciatura en Enfermería en el marco del Dia de la Enfermería Argentina q
 ue se celebra el 21 de noviembre.&nbsp;</p><hr id="system-readmore" /><p st
 yle="text-align: justify;">El día lunes 26 de noviembre se llevará a cabo e
 n nuestra ESCS una Jornada de Enfermería organizada por la Carrera de Licen
 ciatura en Enfermería en el marco del Dia de la Enfermería Argentina que se
  celebra el 21 de noviembre.</p><p style="text-align: justify;">En dichas J
 ornadas se abordarán los siguientes temas de Enfermería Legal:</p><ul style
 ="text-align: justify;"><li>La responsabilidad Profesional en el ejercicio 
 de la Enfermería.</li><li>Los registros de Enfermería como prueba documenta
 l.</li><li>Proyecto de Colegio de Enfermería de la Pcia de Buenos Aires</li
 ></ul><p style="text-align: justify;">Las disertaciones estarán a cargo del
  Licenciado Alfredo Garrot y la Lic. Rosalia Vazquez.</p><p>&nbsp;<div clas
 s="phocadownloadfile32"><a href="/index.php/component/phocadownload/categor
 y/13-noticias?download=223:programa" target="_self" >Programa</a></div></p>
CONTACT:2284 426382 Int. 313 y 315
DTSTAMP:20260419T140638
DTSTART;TZID=America/Argentina/Buenos_Aires:20181126T140000
DTEND;TZID=America/Argentina/Buenos_Aires:20181126T180000
SEQUENCE:0
TRANSP:OPAQUE
END:VEVENT
END:VCALENDAR